BEGIN:VCALENDAR
VERSION:2.0
PRODID:-//ACG//Events//EN
CALSCALE:GREGORIAN
METHOD:PUBLISH
BEGIN:VTIMEZONE
TZID:America/New_York
BEGIN:STANDARD
DTSTART:19701025T060000
TZOFFSETTO:-0500
TZOFFSETFROM:-0400
RRULE:FREQ=YEARLY;BYMONTH=11;BYDAY=1SU
END:STANDARD
BEGIN:DAYLIGHT
DTSTART:19700426T070000
TZOFFSETTO:-0400
TZOFFSETFROM:-0500
RRULE:FREQ=YEARLY;BYMONTH=3;BYDAY=2SU
END:DAYLIGHT
END:VTIMEZONE
BEGIN:VEVENT
UID:ACG-UPSTATE-SC-BREAKFAST-PROGRAM
DTSTART;TZID=America/New_York:20250502T073002
DTEND;TZID=America/New_York:20250502T090010
STATUS:CONFIRMED
SUMMARY:ACG Upstate SC Network – Breakfast & Insight: Growth of Manu
 facturing in  the Upstate
DESCRIPTION:
LOCATION:City Club of Greenville – Blue Ridge Ballroom\n55 Beattie P
 lace\nGreenville\\, SC 29601
URL:https://www.acg.org/atlanta/events/acg-upstate-sc-network-breakfas
 t-insight-growth-manufacturing-upstate
DTSTAMP:20260422T020408Z
END:VEVENT
END:VCALENDAR
