BEGIN:VCALENDAR
VERSION:2.0
PRODID:-//ACG//Events//EN
CALSCALE:GREGORIAN
METHOD:PUBLISH
BEGIN:VTIMEZONE
TZID:America/Chicago
BEGIN:STANDARD
DTSTART:19701025T070000
TZOFFSETTO:-0600
TZOFFSETFROM:-0500
RRULE:FREQ=YEARLY;BYMONTH=11;BYDAY=1SU
END:STANDARD
BEGIN:DAYLIGHT
DTSTART:19700426T080000
TZOFFSETTO:-0500
TZOFFSETFROM:-0600
RRULE:FREQ=YEARLY;BYMONTH=3;BYDAY=2SU
END:DAYLIGHT
END:VTIMEZONE
BEGIN:VEVENT
UID:2025-STL-CFO-ROUNDTABLE-BY-INVITATION-ONLY
DTSTART;TZID=America/Chicago:20250429T073045
DTEND;TZID=America/Chicago:20250429T090002
STATUS:CONFIRMED
SUMMARY:2025 STL | CFO Connect: Peer Insights and Strategies for Succe
 ss (By Invitation Only)
DESCRIPTION:
LOCATION:The Ritz-Carlton St. Louis\, Colonnade Room\n100 Carondelet P
 laza\nClayton\\, MO 63105
URL:https://www.acg.org/stlouis/events/2025-stl-cfo-connect-peer-insig
 hts-and-strategies-success-invitation-only
DTSTAMP:20260422T020315Z
END:VEVENT
END:VCALENDAR
