BEGIN:VCALENDAR
VERSION:2.0
PRODID:-//ACG//Events//EN
CALSCALE:GREGORIAN
METHOD:PUBLISH
BEGIN:VTIMEZONE
TZID:America/New_York
BEGIN:STANDARD
DTSTART:19701025T060000
TZOFFSETTO:-0500
TZOFFSETFROM:-0400
RRULE:FREQ=YEARLY;BYMONTH=11;BYDAY=1SU
END:STANDARD
BEGIN:DAYLIGHT
DTSTART:19700426T070000
TZOFFSETTO:-0400
TZOFFSETFROM:-0500
RRULE:FREQ=YEARLY;BYMONTH=3;BYDAY=2SU
END:DAYLIGHT
END:VTIMEZONE
BEGIN:VEVENT
UID:2025-ACG-BOSTON-WHISKEY-TASTING-NETWORKING-NIGHT
DTSTART;TZID=America/New_York:20250416T170056
DTEND;TZID=America/New_York:20250416T193005
STATUS:CONFIRMED
SUMMARY:2025 ACG Boston: Whiskey Tasting & Networking Night
DESCRIPTION:
LOCATION:The Smoke Shop - Seaport\n343 Congress Street\nBoston\\, MA 02210
URL:https://www.acg.org/boston/events/2025-acg-boston-whiskey-tasting-
 networking-night
DTSTAMP:20260422T060044Z
END:VEVENT
END:VCALENDAR
