BEGIN:VCALENDAR
VERSION:2.0
PRODID:-//ACG//Events//EN
CALSCALE:GREGORIAN
METHOD:PUBLISH
BEGIN:VTIMEZONE
TZID:America/Los_Angeles
BEGIN:STANDARD
DTSTART:19701025T090000
TZOFFSETTO:-0800
TZOFFSETFROM:-0700
RRULE:FREQ=YEARLY;BYMONTH=11;BYDAY=1SU
END:STANDARD
BEGIN:DAYLIGHT
DTSTART:19700426T100000
TZOFFSETTO:-0700
TZOFFSETFROM:-0800
RRULE:FREQ=YEARLY;BYMONTH=3;BYDAY=2SU
END:DAYLIGHT
END:VTIMEZONE
BEGIN:VEVENT
UID:ACG-LOS-ANGELES-NEW-PROSPECTIVE-MEMBER-BREAKFAST-MAY-28-2025
DTSTART;TZID=America/Los_Angeles:20250528T080034
DTEND;TZID=America/Los_Angeles:20250528T093002
STATUS:CONFIRMED
SUMMARY:ACG Los Angeles | New & Prospective Member Breakfast\, May 28\
 , 2025
DESCRIPTION:
LOCATION:Beverly Hills Chamber of Commerce\n9400 South Santa Monica Bo
 ulevard\nBeverly Hills\\, CA 90210
URL:https://www.acg.org/los-angeles/events/acg-los-angeles-new-prospec
 tive-member-breakfast-may-28-2025
DTSTAMP:20260421T201658Z
END:VEVENT
END:VCALENDAR
