BEGIN:VCALENDAR
VERSION:2.0
PRODID:-//ACG//Events//EN
CALSCALE:GREGORIAN
METHOD:PUBLISH
BEGIN:VTIMEZONE
TZID:America/New_York
BEGIN:STANDARD
DTSTART:19701025T060000
TZOFFSETTO:-0500
TZOFFSETFROM:-0400
RRULE:FREQ=YEARLY;BYMONTH=11;BYDAY=1SU
END:STANDARD
BEGIN:DAYLIGHT
DTSTART:19700426T070000
TZOFFSETTO:-0400
TZOFFSETFROM:-0500
RRULE:FREQ=YEARLY;BYMONTH=3;BYDAY=2SU
END:DAYLIGHT
END:VTIMEZONE
BEGIN:VEVENT
UID:MARCH-26-ACG-757-LUNCHEON
DTSTART;TZID=America/New_York:20250326T113006
DTEND;TZID=America/New_York:20250326T133017
STATUS:CONFIRMED
SUMMARY:March 26\, 2025 ACG 757 Luncheon: Regional Insights and Resour
 ces to Impact Mid-Market Growth in the 757
DESCRIPTION:
LOCATION:Town Point Club\n101 West Main Street\nNorfolk\\, VA 23510
URL:https://www.acg.org/757-network/events/march-26-2025-acg-757-lunch
 eon-regional-insights-and-resources-impact-mid-market
DTSTAMP:20260422T081329Z
END:VEVENT
END:VCALENDAR
