BEGIN:VCALENDAR
VERSION:2.0
PRODID:-//ACG//Events//EN
CALSCALE:GREGORIAN
METHOD:PUBLISH
BEGIN:VTIMEZONE
TZID:Europe/Madrid
BEGIN:STANDARD
DTSTART:19700101T060000
TZOFFSETTO:+0100
TZOFFSETFROM:+0100
END:STANDARD
END:VTIMEZONE
BEGIN:VEVENT
UID:144000
DTSTART;TZID=Europe/Madrid:20250318T190000
DTEND;TZID=Europe/Madrid:20250318T210000
STATUS:CONFIRMED
SUMMARY:Sesión del Reconocimiento anual IESE Business School - ACG
DESCRIPTION:
LOCATION:IESE Business School\nIESE BUSINESS SCHOOL\nCarrer Arnús i G
 arí\, 3-7 \nBarcelona\\, Barcelona 08034
URL:https://www.acg.org/spain/events/sesion-del-reconocimiento-anual-i
 ese-business-school-acg
DTSTAMP:20260422T094129Z
END:VEVENT
END:VCALENDAR
