BEGIN:VCALENDAR
VERSION:2.0
PRODID:-//ACG//Events//EN
CALSCALE:GREGORIAN
METHOD:PUBLISH
BEGIN:VTIMEZONE
TZID:Europe/Madrid
BEGIN:STANDARD
DTSTART:19700101T060000
TZOFFSETTO:+0100
TZOFFSETFROM:+0100
END:STANDARD
END:VTIMEZONE
BEGIN:VEVENT
UID:144012
DTSTART;TZID=Europe/Madrid:20250320T083000
DTEND;TZID=Europe/Madrid:20250320T100000
STATUS:CONFIRMED
SUMMARY:Mesa redonda sobre los data centers
DESCRIPTION:
LOCATION:Circulo Ecuestre\n
URL:https://www.acg.org/spain/events/mesa-redonda-sobre-los-data-centers
DTSTAMP:20260422T081001Z
END:VEVENT
END:VCALENDAR
