BEGIN:VCALENDAR
VERSION:2.0
PRODID:-//ACG//Events//EN
CALSCALE:GREGORIAN
METHOD:PUBLISH
BEGIN:VTIMEZONE
TZID:America/Chicago
BEGIN:STANDARD
DTSTART:19701025T070000
TZOFFSETTO:-0600
TZOFFSETFROM:-0500
RRULE:FREQ=YEARLY;BYMONTH=11;BYDAY=1SU
END:STANDARD
BEGIN:DAYLIGHT
DTSTART:19700426T080000
TZOFFSETTO:-0500
TZOFFSETFROM:-0600
RRULE:FREQ=YEARLY;BYMONTH=3;BYDAY=2SU
END:DAYLIGHT
END:VTIMEZONE
BEGIN:VEVENT
UID:2025-STL-EMERGING-LEADERS-GOLF-EVENT-BY-INVITATION-ONLY
DTSTART;TZID=America/Chicago:20250605T093041
DTEND;TZID=America/Chicago:20250605T170024
STATUS:CONFIRMED
SUMMARY:2025 STL | Emerging Leaders Golf Event (Ages 40 and under)
DESCRIPTION:
LOCATION:The Country Club of Saint Albans\n3165 Saint Albans Road
URL:https://www.acg.org/stlouis/events/2025-stl-emerging-leaders-golf-
 event-ages-40-and-under
DTSTAMP:20260421T201714Z
END:VEVENT
END:VCALENDAR
