BEGIN:VCALENDAR
VERSION:2.0
PRODID:-//ACG//Events//EN
CALSCALE:GREGORIAN
METHOD:PUBLISH
BEGIN:VTIMEZONE
TZID:America/Los_Angeles
BEGIN:STANDARD
DTSTART:19701025T090000
TZOFFSETTO:-0800
TZOFFSETFROM:-0700
RRULE:FREQ=YEARLY;BYMONTH=11;BYDAY=1SU
END:STANDARD
BEGIN:DAYLIGHT
DTSTART:19700426T100000
TZOFFSETTO:-0700
TZOFFSETFROM:-0800
RRULE:FREQ=YEARLY;BYMONTH=3;BYDAY=2SU
END:DAYLIGHT
END:VTIMEZONE
BEGIN:VEVENT
UID:2025-ACG-NEW-YORK-NORTHEAST-DEALMAKER-PARTY-AT-DEALMAX
DTSTART;TZID=America/Los_Angeles:20250408T210038
DTEND;TZID=America/Los_Angeles:20250408T230038
STATUS:CONFIRMED
SUMMARY:2025 ACG New York Northeast DealMaker Party at DealMAX
DESCRIPTION:
LOCATION:The NoMad Bar\n3772 Las Vegas Boulevard South\nLas Vegas\\, N
 V 89109
URL:https://www.acg.org/nyc/events/2025-acg-new-york-northeast-dealmak
 er-party-dealmax
DTSTAMP:20260422T060836Z
END:VEVENT
END:VCALENDAR
