BEGIN:VCALENDAR
VERSION:2.0
PRODID:-//ACG//Events//EN
CALSCALE:GREGORIAN
METHOD:PUBLISH
BEGIN:VTIMEZONE
TZID:America/Vancouver
BEGIN:STANDARD
DTSTART:19701025T090000
TZOFFSETTO:-0800
TZOFFSETFROM:-0700
RRULE:FREQ=YEARLY;BYMONTH=11;BYDAY=1SU
END:STANDARD
BEGIN:DAYLIGHT
DTSTART:19700426T100000
TZOFFSETTO:-0700
TZOFFSETFROM:-0800
RRULE:FREQ=YEARLY;BYMONTH=3;BYDAY=2SU
END:DAYLIGHT
END:VTIMEZONE
BEGIN:VEVENT
UID:144053
DTSTART;TZID=America/Vancouver:20250620T080000
DTEND;TZID=America/Vancouver:20250620T170000
STATUS:CONFIRMED
SUMMARY:2025 ACG BC Golf Tournament
DESCRIPTION:
LOCATION:Univeristy Golf Club\n5185 University Boulevard\nVancouver\\,
  BC V6T 1X5
URL:https://www.acg.org/bc/events/2025-acg-bc-golf-tournament
DTSTAMP:20260421T182104Z
END:VEVENT
END:VCALENDAR
