BEGIN:VCALENDAR
VERSION:2.0
PRODID:-//ACG//Events//EN
CALSCALE:GREGORIAN
METHOD:PUBLISH
BEGIN:VTIMEZONE
TZID:America/Chicago
BEGIN:STANDARD
DTSTART:19701025T070000
TZOFFSETTO:-0600
TZOFFSETFROM:-0500
RRULE:FREQ=YEARLY;BYMONTH=11;BYDAY=1SU
END:STANDARD
BEGIN:DAYLIGHT
DTSTART:19700426T080000
TZOFFSETTO:-0500
TZOFFSETFROM:-0600
RRULE:FREQ=YEARLY;BYMONTH=3;BYDAY=2SU
END:DAYLIGHT
END:VTIMEZONE
BEGIN:VEVENT
UID:2025-MARCH-20TH-ACG-ASA-NEXTGEN-S-PICKLE-BALL-NETWORKING-EVENT-IN-ATX
DTSTART;TZID=America/Chicago:20250320T170040
DTEND;TZID=America/Chicago:20250320T200054
STATUS:CONFIRMED
SUMMARY:2025 March 20th ACG ASA NextGen's Pickle Ball & Networking Eve
 nt in ATX
DESCRIPTION:
LOCATION:Other Racquet Pickleball Club\n2717 Manor Road\nAustin\\, TX 78722
URL:https://www.acg.org/asa/events/2025-march-20th-acg-asa-nextgens-pi
 ckle-ball-networking-event-atx
DTSTAMP:20260422T081114Z
END:VEVENT
END:VCALENDAR
