BEGIN:VCALENDAR
VERSION:2.0
PRODID:-//ACG//Events//EN
CALSCALE:GREGORIAN
METHOD:PUBLISH
BEGIN:VTIMEZONE
TZID:America/New_York
BEGIN:STANDARD
DTSTART:19701025T060000
TZOFFSETTO:-0500
TZOFFSETFROM:-0400
RRULE:FREQ=YEARLY;BYMONTH=11;BYDAY=1SU
END:STANDARD
BEGIN:DAYLIGHT
DTSTART:19700426T070000
TZOFFSETTO:-0400
TZOFFSETFROM:-0500
RRULE:FREQ=YEARLY;BYMONTH=3;BYDAY=2SU
END:DAYLIGHT
END:VTIMEZONE
BEGIN:VEVENT
UID:NEXTGEN-FIRST-90-DAYS-UNPACKING-POLICY-AND-ECONOMIC-IMPACTS
DTSTART;TZID=America/New_York:20250410T173006
DTEND;TZID=America/New_York:20250410T193016
STATUS:CONFIRMED
SUMMARY:NextGen First 90 Days: Unpacking Policy and Economic Impacts
DESCRIPTION:
LOCATION:JP Morgan Office\n875 15th Street Northwest\nWashington\\, DC
  20005
URL:https://www.acg.org/national-capital/events/nextgen-first-90-days-
 unpacking-policy-and-economic-impacts
DTSTAMP:20260422T040445Z
END:VEVENT
END:VCALENDAR
