BEGIN:VCALENDAR
VERSION:2.0
PRODID:-//ACG//Events//EN
CALSCALE:GREGORIAN
METHOD:PUBLISH
BEGIN:VTIMEZONE
TZID:America/Indiana/Indianapolis
BEGIN:STANDARD
DTSTART:19701025T060000
TZOFFSETTO:-0500
TZOFFSETFROM:-0400
RRULE:FREQ=YEARLY;BYMONTH=11;BYDAY=1SU
END:STANDARD
BEGIN:DAYLIGHT
DTSTART:19700426T070000
TZOFFSETTO:-0400
TZOFFSETFROM:-0500
RRULE:FREQ=YEARLY;BYMONTH=3;BYDAY=2SU
END:DAYLIGHT
END:VTIMEZONE
BEGIN:VEVENT
UID:144099
DTSTART;TZID=America/Indiana/Indianapolis:20250417T170000
DTEND;TZID=America/Indiana/Indianapolis:20250417T200000
STATUS:CONFIRMED
SUMMARY:ACG Indiana Annual Awards
DESCRIPTION:
URL:https://www.acg.org/indiana/events/acg-indiana-annual-awards-1
DTSTAMP:20260422T040609Z
END:VEVENT
END:VCALENDAR
