BEGIN:VCALENDAR
VERSION:2.0
PRODID:-//ACG//Events//EN
CALSCALE:GREGORIAN
METHOD:PUBLISH
BEGIN:VTIMEZONE
TZID:America/Chicago
BEGIN:STANDARD
DTSTART:19701025T070000
TZOFFSETTO:-0600
TZOFFSETFROM:-0500
RRULE:FREQ=YEARLY;BYMONTH=11;BYDAY=1SU
END:STANDARD
BEGIN:DAYLIGHT
DTSTART:19700426T080000
TZOFFSETTO:-0500
TZOFFSETFROM:-0600
RRULE:FREQ=YEARLY;BYMONTH=3;BYDAY=2SU
END:DAYLIGHT
END:VTIMEZONE
BEGIN:VEVENT
UID:2025-ACG-WI-NEXTGEN-APRIL-LEARNING-SESSION
DTSTART;TZID=America/Chicago:20250403T080052
DTEND;TZID=America/Chicago:20250403T093017
STATUS:CONFIRMED
SUMMARY:2025 ACG WI NextGen | Tariff Impact: Navigating the Future of 
 Domestic Supply Chains
DESCRIPTION:
LOCATION:BMO\n790 North Water Street\nMilwaukee\\, WI 53202
URL:https://www.acg.org/wisconsin/events/2025-acg-wi-nextgen-tariff-im
 pact-navigating-future-domestic-supply-chains
DTSTAMP:20260422T061218Z
END:VEVENT
END:VCALENDAR
