BEGIN:VCALENDAR
VERSION:2.0
PRODID:-//ACG//Events//EN
CALSCALE:GREGORIAN
METHOD:PUBLISH
BEGIN:VTIMEZONE
TZID:America/Los_Angeles
BEGIN:STANDARD
DTSTART:19701025T090000
TZOFFSETTO:-0800
TZOFFSETFROM:-0700
RRULE:FREQ=YEARLY;BYMONTH=11;BYDAY=1SU
END:STANDARD
BEGIN:DAYLIGHT
DTSTART:19700426T100000
TZOFFSETTO:-0700
TZOFFSETFROM:-0800
RRULE:FREQ=YEARLY;BYMONTH=3;BYDAY=2SU
END:DAYLIGHT
END:VTIMEZONE
BEGIN:VEVENT
UID:ACG-SF-YOUNG-ACG-MEET-UP-MAY-2025
DTSTART;TZID=America/Los_Angeles:20250501T163035
DTEND;TZID=America/Los_Angeles:20250501T183035
STATUS:CONFIRMED
SUMMARY:ACG SF | Young ACG Spring Meet-Up\, May 2025
DESCRIPTION:
LOCATION:California Bank & Trust\n456 Montgomery Street\nSan Francisco
 \\, CA 94104
URL:https://www.acg.org/sanfrancisco/events/acg-sf-young-acg-spring-me
 et-may-2025
DTSTAMP:20260422T020315Z
END:VEVENT
END:VCALENDAR
