BEGIN:VCALENDAR
VERSION:2.0
PRODID:-//ACG//Events//EN
CALSCALE:GREGORIAN
METHOD:PUBLISH
BEGIN:VTIMEZONE
TZID:US/Central
BEGIN:STANDARD
DTSTART:19701025T070000
TZOFFSETTO:-0600
TZOFFSETFROM:-0500
RRULE:FREQ=YEARLY;BYMONTH=11;BYDAY=1SU
END:STANDARD
BEGIN:DAYLIGHT
DTSTART:19700426T080000
TZOFFSETTO:-0500
TZOFFSETFROM:-0600
RRULE:FREQ=YEARLY;BYMONTH=3;BYDAY=2SU
END:DAYLIGHT
END:VTIMEZONE
BEGIN:VEVENT
UID:ACG-BIRMINGHAM-NETWORK-SPRING-2025-HAPPY-HOUR
DTSTART;TZID=US/Central:20250417T170051
DTEND;TZID=US/Central:20250417T190051
STATUS:CONFIRMED
SUMMARY:ACG Birmingham Network Spring 2025 Happy Hour
DESCRIPTION:
URL:https://www.acg.org/birminghamnetwork/events/acg-birmingham-networ
 k-spring-2025-happy-hour
DTSTAMP:20260422T040445Z
END:VEVENT
END:VCALENDAR
