BEGIN:VCALENDAR
VERSION:2.0
PRODID:-//ACG//Events//EN
CALSCALE:GREGORIAN
METHOD:PUBLISH
BEGIN:VTIMEZONE
TZID:America/New_York
BEGIN:STANDARD
DTSTART:19701025T060000
TZOFFSETTO:-0500
TZOFFSETFROM:-0400
RRULE:FREQ=YEARLY;BYMONTH=11;BYDAY=1SU
END:STANDARD
BEGIN:DAYLIGHT
DTSTART:19700426T070000
TZOFFSETTO:-0400
TZOFFSETFROM:-0500
RRULE:FREQ=YEARLY;BYMONTH=3;BYDAY=2SU
END:DAYLIGHT
END:VTIMEZONE
BEGIN:VEVENT
UID:SFL250508
DTSTART;TZID=America/New_York:20250508T163045
DTEND;TZID=America/New_York:20250508T190057
STATUS:CONFIRMED
SUMMARY:ACG Women Connect South Florida Candle-Making Class and Networ
 king Reception
DESCRIPTION:
LOCATION:Candle Land Miami\, CORAL GABLES\n154 Giralda Avenue\nCoral G
 ables\\, FL 33134
URL:https://www.acg.org/southflorida/events/acg-women-connect-south-fl
 orida-candle-making-class-and-networking-reception
DTSTAMP:20260421T235943Z
END:VEVENT
END:VCALENDAR
