BEGIN:VCALENDAR
VERSION:2.0
PRODID:-//ACG//Events//EN
CALSCALE:GREGORIAN
METHOD:PUBLISH
BEGIN:VTIMEZONE
TZID:America/New_York
BEGIN:STANDARD
DTSTART:19701025T060000
TZOFFSETTO:-0500
TZOFFSETFROM:-0400
RRULE:FREQ=YEARLY;BYMONTH=11;BYDAY=1SU
END:STANDARD
BEGIN:DAYLIGHT
DTSTART:19700426T070000
TZOFFSETTO:-0400
TZOFFSETFROM:-0500
RRULE:FREQ=YEARLY;BYMONTH=3;BYDAY=2SU
END:DAYLIGHT
END:VTIMEZONE
BEGIN:VEVENT
UID:2025-NFL-HAPPY-HOUR-MIXOLOGY-W-CHEF-S-GARDEN
DTSTART;TZID=America/New_York:20250507T173011
DTEND;TZID=America/New_York:20250507T193037
STATUS:CONFIRMED
SUMMARY:2025 NFL Happy Hour Mixology w/ Chef's Garden
DESCRIPTION:
LOCATION:Chef's Garden\n11193 Saint Johns Industrial Parkway North\nJa
 cksonville\\, FL 32246
URL:https://www.acg.org/northflorida/events/2025-nfl-happy-hour-mixolo
 gy-w-chefs-garden
DTSTAMP:20260422T000238Z
END:VEVENT
END:VCALENDAR
