BEGIN:VCALENDAR
VERSION:2.0
PRODID:-//ACG//Events//EN
CALSCALE:GREGORIAN
METHOD:PUBLISH
BEGIN:VTIMEZONE
TZID:America/New_York
BEGIN:STANDARD
DTSTART:19701025T060000
TZOFFSETTO:-0500
TZOFFSETFROM:-0400
RRULE:FREQ=YEARLY;BYMONTH=11;BYDAY=1SU
END:STANDARD
BEGIN:DAYLIGHT
DTSTART:19700426T070000
TZOFFSETTO:-0400
TZOFFSETFROM:-0500
RRULE:FREQ=YEARLY;BYMONTH=3;BYDAY=2SU
END:DAYLIGHT
END:VTIMEZONE
BEGIN:VEVENT
UID:144226
DTSTART;TZID=America/New_York:20250515T150000
DTEND;TZID=America/New_York:20250515T210000
STATUS:CONFIRMED
SUMMARY:Private Equity C-Suite Update - May Event
DESCRIPTION:
LOCATION:Cira Center \n
URL:https://www.acg.org/events/private-equity-c-suite-update-may-event
DTSTAMP:20260421T221130Z
END:VEVENT
END:VCALENDAR
