BEGIN:VCALENDAR
VERSION:2.0
PRODID:-//ACG//Events//EN
CALSCALE:GREGORIAN
METHOD:PUBLISH
BEGIN:VTIMEZONE
TZID:America/Chicago
BEGIN:STANDARD
DTSTART:19701025T070000
TZOFFSETTO:-0600
TZOFFSETFROM:-0500
RRULE:FREQ=YEARLY;BYMONTH=11;BYDAY=1SU
END:STANDARD
BEGIN:DAYLIGHT
DTSTART:19700426T080000
TZOFFSETTO:-0500
TZOFFSETFROM:-0600
RRULE:FREQ=YEARLY;BYMONTH=3;BYDAY=2SU
END:DAYLIGHT
END:VTIMEZONE
BEGIN:VEVENT
UID:2025-ACG-NEBRASKA-WOMEN-S-NETWORK-MAY-HAPPY-HOUR
DTSTART;TZID=America/Chicago:20250501T153059
DTEND;TZID=America/Chicago:20250501T173008
STATUS:CONFIRMED
SUMMARY:2025 ACG Nebraska Women's Network | May Happy Hour
DESCRIPTION:
LOCATION:Cellar44 Wine Bar\n2835 South 170th Plaza\nOmaha\\, NE 68130
URL:https://www.acg.org/nebraska/events/2025-acg-nebraska-womens-netwo
 rk-may-happy-hour
DTSTAMP:20260422T020356Z
END:VEVENT
END:VCALENDAR
