BEGIN:VCALENDAR
VERSION:2.0
PRODID:-//ACG//Events//EN
CALSCALE:GREGORIAN
METHOD:PUBLISH
BEGIN:VTIMEZONE
TZID:America/New_York
BEGIN:STANDARD
DTSTART:19701025T060000
TZOFFSETTO:-0500
TZOFFSETFROM:-0400
RRULE:FREQ=YEARLY;BYMONTH=11;BYDAY=1SU
END:STANDARD
BEGIN:DAYLIGHT
DTSTART:19700426T070000
TZOFFSETTO:-0400
TZOFFSETFROM:-0500
RRULE:FREQ=YEARLY;BYMONTH=3;BYDAY=2SU
END:DAYLIGHT
END:VTIMEZONE
BEGIN:VEVENT
UID:144257
DTSTART;TZID=America/New_York:20250730T090059
DTEND;TZID=America/New_York:20250801T170000
STATUS:CONFIRMED
SUMMARY:ACCELERATOR 2025
DESCRIPTION:
LOCATION:Canopy by Hilton Portland Waterfront\n9 Center Street\nPortla
 nd\\, ME 04101
URL:https://www.acg.org/boston/events/accelerator-2025
DTSTAMP:20260421T123841Z
END:VEVENT
END:VCALENDAR
