BEGIN:VCALENDAR
VERSION:2.0
PRODID:-//ACG//Events//EN
CALSCALE:GREGORIAN
METHOD:PUBLISH
BEGIN:VTIMEZONE
TZID:America/New_York
BEGIN:STANDARD
DTSTART:19701025T060000
TZOFFSETTO:-0500
TZOFFSETFROM:-0400
RRULE:FREQ=YEARLY;BYMONTH=11;BYDAY=1SU
END:STANDARD
BEGIN:DAYLIGHT
DTSTART:19700426T070000
TZOFFSETTO:-0400
TZOFFSETFROM:-0500
RRULE:FREQ=YEARLY;BYMONTH=3;BYDAY=2SU
END:DAYLIGHT
END:VTIMEZONE
BEGIN:VEVENT
UID:NATIONAL-CAPITAL-SUMMER-SOCIAL-JULY-2025
DTSTART;TZID=America/New_York:20250723T163031
DTEND;TZID=America/New_York:20250723T170031
STATUS:CONFIRMED
SUMMARY:National Capital Summer Connections: A Networking Reception | 
 July 2025
DESCRIPTION:
LOCATION:Ometeo | Mexican\n1640 Capital One Drive\nTysons\\, VA 22102
URL:https://www.acg.org/national-capital/events/national-capital-summe
 r-connections-networking-reception-july-2025
DTSTAMP:20260421T143749Z
END:VEVENT
END:VCALENDAR
