BEGIN:VCALENDAR
VERSION:2.0
PRODID:-//ACG//Events//EN
CALSCALE:GREGORIAN
METHOD:PUBLISH
BEGIN:VTIMEZONE
TZID:America/New_York
BEGIN:STANDARD
DTSTART:19701025T060000
TZOFFSETTO:-0500
TZOFFSETFROM:-0400
RRULE:FREQ=YEARLY;BYMONTH=11;BYDAY=1SU
END:STANDARD
BEGIN:DAYLIGHT
DTSTART:19700426T070000
TZOFFSETTO:-0400
TZOFFSETFROM:-0500
RRULE:FREQ=YEARLY;BYMONTH=3;BYDAY=2SU
END:DAYLIGHT
END:VTIMEZONE
BEGIN:VEVENT
UID:2025-04-ACGKY-DEAL-OF-THE-YEAR-AWARDS
DTSTART;TZID=America/New_York:20250417T112052
DTEND;TZID=America/New_York:20250417T130116
STATUS:CONFIRMED
SUMMARY:2025-04 ACGKY Deal of the Year Awards
DESCRIPTION:
LOCATION:Baird Conference Center\, 29th Floor\n500 West Jefferson Stre
 et\nLouisville\\, KY 40202
URL:https://www.acg.org/kentucky/events/2025-04-acgky-deal-year-awards
DTSTAMP:20260422T040418Z
END:VEVENT
END:VCALENDAR
