BEGIN:VCALENDAR
VERSION:2.0
PRODID:-//ACG//Events//EN
CALSCALE:GREGORIAN
METHOD:PUBLISH
BEGIN:VTIMEZONE
TZID:US/Eastern
BEGIN:STANDARD
DTSTART:19701025T060000
TZOFFSETTO:-0500
TZOFFSETFROM:-0400
RRULE:FREQ=YEARLY;BYMONTH=11;BYDAY=1SU
END:STANDARD
BEGIN:DAYLIGHT
DTSTART:19700426T070000
TZOFFSETTO:-0400
TZOFFSETFROM:-0500
RRULE:FREQ=YEARLY;BYMONTH=3;BYDAY=2SU
END:DAYLIGHT
END:VTIMEZONE
BEGIN:VEVENT
UID:ACG-NJ-CEO-FORUM-MAY-8-2025
DTSTART;TZID=US/Eastern:20250508T173032
DTEND;TZID=US/Eastern:20250508T203050
STATUS:CONFIRMED
SUMMARY:ACG NJ CEO Forum May 8\, 2025
DESCRIPTION:
URL:https://www.acg.org/newjersey/events/acg-nj-ceo-forum-may-8-2025
DTSTAMP:20260422T000237Z
END:VEVENT
END:VCALENDAR
