BEGIN:VCALENDAR
VERSION:2.0
PRODID:-//ACG//Events//EN
CALSCALE:GREGORIAN
METHOD:PUBLISH
BEGIN:VTIMEZONE
TZID:US/Eastern
BEGIN:STANDARD
DTSTART:19701025T060000
TZOFFSETTO:-0500
TZOFFSETFROM:-0400
RRULE:FREQ=YEARLY;BYMONTH=11;BYDAY=1SU
END:STANDARD
BEGIN:DAYLIGHT
DTSTART:19700426T070000
TZOFFSETTO:-0400
TZOFFSETFROM:-0500
RRULE:FREQ=YEARLY;BYMONTH=3;BYDAY=2SU
END:DAYLIGHT
END:VTIMEZONE
BEGIN:VEVENT
UID:ACG-NJ-CFO-FORUM-MAY-14-2025
DTSTART;TZID=US/Eastern:20250514T173008
DTEND;TZID=US/Eastern:20250514T203026
STATUS:CONFIRMED
SUMMARY:ACG NJ CFO Forum May 14\, 2025
DESCRIPTION:
URL:https://www.acg.org/newjersey/events/acg-nj-cfo-forum-may-14-2025
DTSTAMP:20260421T234201Z
END:VEVENT
END:VCALENDAR
