BEGIN:VCALENDAR
VERSION:2.0
PRODID:-//ACG//Events//EN
CALSCALE:GREGORIAN
METHOD:PUBLISH
BEGIN:VTIMEZONE
TZID:America/New_York
BEGIN:STANDARD
DTSTART:19701025T060000
TZOFFSETTO:-0500
TZOFFSETFROM:-0400
RRULE:FREQ=YEARLY;BYMONTH=11;BYDAY=1SU
END:STANDARD
BEGIN:DAYLIGHT
DTSTART:19700426T070000
TZOFFSETTO:-0400
TZOFFSETFROM:-0500
RRULE:FREQ=YEARLY;BYMONTH=3;BYDAY=2SU
END:DAYLIGHT
END:VTIMEZONE
BEGIN:VEVENT
UID:ACG-NJ-NEXTGEN-COMMITTEE-HOSTED-WEBINAR-FEATURING-STEVE-SCHLANSKY-
 APRIL-11-2025
DTSTART;TZID=America/New_York:20250411T090051
DTEND;TZID=America/New_York:20250411T100051
STATUS:CONFIRMED
SUMMARY:ACG NJ | NextGen Leadership Series: Webinar featuring Steve Sc
 hlansky\, April 11\, 2025
DESCRIPTION:
LOCATION:Virtual by Teams\n
URL:https://www.acg.org/newjersey/events/acg-nj-nextgen-leadership-ser
 ies-webinar-featuring-steve-schlansky-april-11-2025
DTSTAMP:20260422T040419Z
END:VEVENT
END:VCALENDAR
