BEGIN:VCALENDAR
VERSION:2.0
PRODID:-//ACG//Events//EN
CALSCALE:GREGORIAN
METHOD:PUBLISH
BEGIN:VTIMEZONE
TZID:Europe/Madrid
BEGIN:STANDARD
DTSTART:19700101T060000
TZOFFSETTO:+0100
TZOFFSETFROM:+0100
END:STANDARD
END:VTIMEZONE
BEGIN:VEVENT
UID:144359
DTSTART;TZID=Europe/Madrid:20250410T140000
DTEND;TZID=Europe/Madrid:20250410T160000
STATUS:CONFIRMED
SUMMARY:El impulso empresarial de CriteriaCaixa
DESCRIPTION:
LOCATION:Via Veneto\nVia Veneto\nGanduxer\, 10\nBarcelona\\, Barcelona
  08021
URL:https://www.acg.org/spain/events/el-impulso-empresarial-de-criteri
 acaixa
DTSTAMP:20260422T061220Z
END:VEVENT
END:VCALENDAR
