BEGIN:VCALENDAR
VERSION:2.0
PRODID:-//ACG//Events//EN
CALSCALE:GREGORIAN
METHOD:PUBLISH
BEGIN:VTIMEZONE
TZID:America/New_York
BEGIN:STANDARD
DTSTART:19701025T060000
TZOFFSETTO:-0500
TZOFFSETFROM:-0400
RRULE:FREQ=YEARLY;BYMONTH=11;BYDAY=1SU
END:STANDARD
BEGIN:DAYLIGHT
DTSTART:19700426T070000
TZOFFSETTO:-0400
TZOFFSETFROM:-0500
RRULE:FREQ=YEARLY;BYMONTH=3;BYDAY=2SU
END:DAYLIGHT
END:VTIMEZONE
BEGIN:VEVENT
UID:2025-YOUNG-ACG-CHARLOTTE-NETWORKING-NIGHT
DTSTART;TZID=America/New_York:20250423T180007
DTEND;TZID=America/New_York:20250423T200007
STATUS:CONFIRMED
SUMMARY:2025 Young ACG Charlotte Networking Night
DESCRIPTION:
LOCATION:Town Brewing Co.\n800 Grandin Road\nCharlotte\\, NC 28208
URL:https://www.acg.org/charlotte/events/2025-young-acg-charlotte-netw
 orking-night
DTSTAMP:20260422T020445Z
END:VEVENT
END:VCALENDAR
