BEGIN:VCALENDAR
VERSION:2.0
PRODID:-//ACG//Events//EN
CALSCALE:GREGORIAN
METHOD:PUBLISH
BEGIN:VTIMEZONE
TZID:US/Mountain
BEGIN:STANDARD
DTSTART:19701025T080000
TZOFFSETTO:-0700
TZOFFSETFROM:-0600
RRULE:FREQ=YEARLY;BYMONTH=11;BYDAY=1SU
END:STANDARD
BEGIN:DAYLIGHT
DTSTART:19700426T090000
TZOFFSETTO:-0600
TZOFFSETFROM:-0700
RRULE:FREQ=YEARLY;BYMONTH=3;BYDAY=2SU
END:DAYLIGHT
END:VTIMEZONE
BEGIN:VEVENT
UID:WPN-APRIL-2025-BILLIARDS-NIGHT
DTSTART;TZID=US/Mountain:20250423T160058
DTEND;TZID=US/Mountain:20250423T180009
STATUS:CONFIRMED
SUMMARY:WPN April 2025 Billiards Night
DESCRIPTION:
LOCATION:Alta Club\n100 East South Temple Street\nSalt Lake City\\, UT
  84111
URL:https://www.acg.org/utah/events/wpn-april-2025-billiards-night
DTSTAMP:20260422T020224Z
END:VEVENT
END:VCALENDAR
