BEGIN:VCALENDAR
VERSION:2.0
PRODID:-//ACG//Events//EN
CALSCALE:GREGORIAN
METHOD:PUBLISH
BEGIN:VTIMEZONE
TZID:America/Phoenix
BEGIN:STANDARD
DTSTART:19700101T060000
TZOFFSETTO:-0700
TZOFFSETFROM:-0700
END:STANDARD
END:VTIMEZONE
BEGIN:VEVENT
UID:2025-ACG-ARIZONA-WOMEN-IN-BUSINESS-AND-LEADERSHIP-APRIL-LUNCH-AND-LEARN
DTSTART;TZID=America/Phoenix:20250429T113018
DTEND;TZID=America/Phoenix:20250429T143018
STATUS:CONFIRMED
SUMMARY:2025 ACG Arizona Women in Business and Leadership April "Lunch
  and Learn"
DESCRIPTION:
LOCATION:The Gladly\n2201 East Camelback Road\nPhoenix\\, AZ 85016
URL:https://www.acg.org/arizona/events/2025-acg-arizona-women-business
 -and-leadership-april-lunch-and-learn
DTSTAMP:20260422T020147Z
END:VEVENT
END:VCALENDAR
