BEGIN:VCALENDAR
VERSION:2.0
PRODID:-//ACG//Events//EN
CALSCALE:GREGORIAN
METHOD:PUBLISH
BEGIN:VTIMEZONE
TZID:America/Chicago
BEGIN:STANDARD
DTSTART:19701025T070000
TZOFFSETTO:-0600
TZOFFSETFROM:-0500
RRULE:FREQ=YEARLY;BYMONTH=11;BYDAY=1SU
END:STANDARD
BEGIN:DAYLIGHT
DTSTART:19700426T080000
TZOFFSETTO:-0500
TZOFFSETFROM:-0600
RRULE:FREQ=YEARLY;BYMONTH=3;BYDAY=2SU
END:DAYLIGHT
END:VTIMEZONE
BEGIN:VEVENT
UID:2025-APRIL-24TH-ACG-ASA-NEXTGEN-S-HAPPY-HOUR-IN-SAN-ANTONIO
DTSTART;TZID=America/Chicago:20250424T173025
DTEND;TZID=America/Chicago:20250424T193037
STATUS:CONFIRMED
SUMMARY:2025 April 24th ACG ASA NextGen’s Happy Hour in San Antonio
DESCRIPTION:
LOCATION:The Range in the Embassy Suites by Hilton S.A. Riverwalk Down
 town\n125 East Houston Street\nSan Antonio\\, TX 78205
URL:https://www.acg.org/asa/events/2025-april-24th-acg-asa-nextgens-ha
 ppy-hour-san-antonio
DTSTAMP:20260422T020314Z
END:VEVENT
END:VCALENDAR
