BEGIN:VCALENDAR
VERSION:2.0
PRODID:-//ACG//Events//EN
CALSCALE:GREGORIAN
METHOD:PUBLISH
BEGIN:VTIMEZONE
TZID:America/Edmonton
BEGIN:STANDARD
DTSTART:19700101T060000
TZOFFSETTO:-0700
TZOFFSETFROM:-0700
END:STANDARD
END:VTIMEZONE
BEGIN:VEVENT
UID:144519
DTSTART;TZID=America/Edmonton:20250422T160000
DTEND;TZID=America/Edmonton:20250423T170000
STATUS:CONFIRMED
SUMMARY:Corporate Growth Summit 2025 - ACG Edmonton
DESCRIPTION:
LOCATION:JW Marriott Edmonton Ice District\n
URL:https://www.acg.org/sanfrancisco/events/corporate-growth-summit-20
 25-acg-edmonton
DTSTAMP:20260422T041449Z
END:VEVENT
END:VCALENDAR
