BEGIN:VCALENDAR
VERSION:2.0
PRODID:-//ACG//Events//EN
CALSCALE:GREGORIAN
METHOD:PUBLISH
BEGIN:VTIMEZONE
TZID:America/New_York
BEGIN:STANDARD
DTSTART:19701025T060000
TZOFFSETTO:-0500
TZOFFSETFROM:-0400
RRULE:FREQ=YEARLY;BYMONTH=11;BYDAY=1SU
END:STANDARD
BEGIN:DAYLIGHT
DTSTART:19700426T070000
TZOFFSETTO:-0400
TZOFFSETFROM:-0500
RRULE:FREQ=YEARLY;BYMONTH=3;BYDAY=2SU
END:DAYLIGHT
END:VTIMEZONE
BEGIN:VEVENT
UID:ACG-CT-BREAKFAST-MEETING-OCTOBER-2025
DTSTART;TZID=America/New_York:20251009T080058
DTEND;TZID=America/New_York:20251009T103058
STATUS:CONFIRMED
SUMMARY:[SOLD OUT] ACG CT Breakfast Meeting\, October 2025
DESCRIPTION:
LOCATION:L'escale at the Delamar Greenwich Harbor Hotel\n500 Steamboat
  Road\nGreenwich\\, CT 06830
URL:https://www.acg.org/connecticut/events/sold-out-acg-ct-breakfast-m
 eeting-october-2025
DTSTAMP:20260421T005506Z
END:VEVENT
END:VCALENDAR
