BEGIN:VCALENDAR
VERSION:2.0
PRODID:-//ACG//Events//EN
CALSCALE:GREGORIAN
METHOD:PUBLISH
BEGIN:VTIMEZONE
TZID:America/Los_Angeles
BEGIN:STANDARD
DTSTART:19701025T090000
TZOFFSETTO:-0800
TZOFFSETFROM:-0700
RRULE:FREQ=YEARLY;BYMONTH=11;BYDAY=1SU
END:STANDARD
BEGIN:DAYLIGHT
DTSTART:19700426T100000
TZOFFSETTO:-0700
TZOFFSETFROM:-0800
RRULE:FREQ=YEARLY;BYMONTH=3;BYDAY=2SU
END:DAYLIGHT
END:VTIMEZONE
BEGIN:VEVENT
UID:2025-Y20-SEA-KICKOFF-TO-THE-FUTURE-INSIGHTS-FROM-SOUNDERS-CIO-AND-
 THE-2026-WORLD-CUP-IN-SEATTLE
DTSTART;TZID=America/Los_Angeles:20250528T160050
DTEND;TZID=America/Los_Angeles:20250528T193005
STATUS:CONFIRMED
SUMMARY:2025 Y20 SEA | Kickoff to the Future: Insights from Sounders C
 IO and the 2026 World Cup in Seattle
DESCRIPTION:
LOCATION:Court in the Square\n401 2nd Avenue South\nSeattle\\, WA 98104
URL:https://www.acg.org/seattle/events/2025-y20-sea-kickoff-future-ins
 ights-sounders-cio-and-2026-world-cup-seattle
DTSTAMP:20260421T201736Z
END:VEVENT
END:VCALENDAR
