BEGIN:VCALENDAR
VERSION:2.0
PRODID:-//ACG//Events//EN
CALSCALE:GREGORIAN
METHOD:PUBLISH
BEGIN:VTIMEZONE
TZID:America/New_York
BEGIN:STANDARD
DTSTART:19701025T060000
TZOFFSETTO:-0500
TZOFFSETFROM:-0400
RRULE:FREQ=YEARLY;BYMONTH=11;BYDAY=1SU
END:STANDARD
BEGIN:DAYLIGHT
DTSTART:19700426T070000
TZOFFSETTO:-0400
TZOFFSETFROM:-0500
RRULE:FREQ=YEARLY;BYMONTH=3;BYDAY=2SU
END:DAYLIGHT
END:VTIMEZONE
BEGIN:VEVENT
UID:2025-ACG-NY-STRATEGIC-ACQUIRERS-LUNCHEON
DTSTART;TZID=America/New_York:20250422T120023
DTEND;TZID=America/New_York:20250422T133023
STATUS:CONFIRMED
SUMMARY:2025 ACG NY Strategic Acquirers Luncheon
DESCRIPTION:
LOCATION:Marubeni America Corporation\n90 Park Avenue\nNew York\\, NY 10016
URL:https://www.acg.org/nyc/events/2025-acg-ny-strategic-acquirers-luncheon
DTSTAMP:20260422T040507Z
END:VEVENT
END:VCALENDAR
