BEGIN:VCALENDAR
VERSION:2.0
PRODID:-//ACG//Events//EN
CALSCALE:GREGORIAN
METHOD:PUBLISH
BEGIN:VTIMEZONE
TZID:America/New_York
BEGIN:STANDARD
DTSTART:19701025T060000
TZOFFSETTO:-0500
TZOFFSETFROM:-0400
RRULE:FREQ=YEARLY;BYMONTH=11;BYDAY=1SU
END:STANDARD
BEGIN:DAYLIGHT
DTSTART:19700426T070000
TZOFFSETTO:-0400
TZOFFSETFROM:-0500
RRULE:FREQ=YEARLY;BYMONTH=3;BYDAY=2SU
END:DAYLIGHT
END:VTIMEZONE
BEGIN:VEVENT
UID:MAY-2025-YACG-LUNCHEON
DTSTART;TZID=America/New_York:20250501T113039
DTEND;TZID=America/New_York:20250501T130039
STATUS:CONFIRMED
SUMMARY:May 2025 YACG Columbus Luncheon
DESCRIPTION:
LOCATION:The Athletic Club of Columbus\n136 East Broad Street\nColumbu
 s\\, OH 43215
URL:https://www.acg.org/columbus/events/may-2025-yacg-columbus-luncheon
DTSTAMP:20260422T020225Z
END:VEVENT
END:VCALENDAR
