BEGIN:VCALENDAR
VERSION:2.0
PRODID:-//ACG//Events//EN
CALSCALE:GREGORIAN
METHOD:PUBLISH
BEGIN:VTIMEZONE
TZID:America/Detroit
BEGIN:STANDARD
DTSTART:19700101T060000
TZOFFSETTO:-0500
TZOFFSETFROM:-0500
END:STANDARD
END:VTIMEZONE
BEGIN:VEVENT
UID:144565
DTSTART;TZID=America/Detroit:20250507T080000
DTEND;TZID=America/Detroit:20250507T093000
STATUS:CONFIRMED
SUMMARY:May Signature Breakfast: Strategic Growth & Capital Formation 
 - Grand Rapids' Path to Market Leadership
DESCRIPTION:
LOCATION:Embassy Suites\nEmbassy Suites\n710 Monroe Avenue\, NW\nGrand
  Rapids\\, MI 49503
URL:https://www.acg.org/wmich/events/may-signature-breakfast-strategic
 -growth-capital-formation-grand-rapids-path-market
DTSTAMP:20260422T020408Z
END:VEVENT
END:VCALENDAR
