BEGIN:VCALENDAR
VERSION:2.0
PRODID:-//ACG//Events//EN
CALSCALE:GREGORIAN
METHOD:PUBLISH
BEGIN:VTIMEZONE
TZID:America/Chicago
BEGIN:STANDARD
DTSTART:19701025T070000
TZOFFSETTO:-0600
TZOFFSETFROM:-0500
RRULE:FREQ=YEARLY;BYMONTH=11;BYDAY=1SU
END:STANDARD
BEGIN:DAYLIGHT
DTSTART:19700426T080000
TZOFFSETTO:-0500
TZOFFSETFROM:-0600
RRULE:FREQ=YEARLY;BYMONTH=3;BYDAY=2SU
END:DAYLIGHT
END:VTIMEZONE
BEGIN:VEVENT
UID:2025-STL-ELITE-SPEAKER-SERIES
DTSTART;TZID=America/Chicago:20250520T150046
DTEND;TZID=America/Chicago:20250520T180020
STATUS:CONFIRMED
SUMMARY:2025 STL | May Elite Speaker Series
DESCRIPTION:
LOCATION:Saint Louis Club\n7676 Forsyth Boulevard\nClayton\\, MO 63105
URL:https://www.acg.org/stlouis/events/2025-stl-may-elite-speaker-series
DTSTAMP:20260421T221130Z
END:VEVENT
END:VCALENDAR
