BEGIN:VCALENDAR
VERSION:2.0
PRODID:-//ACG//Events//EN
CALSCALE:GREGORIAN
METHOD:PUBLISH
BEGIN:VTIMEZONE
TZID:America/Detroit
BEGIN:STANDARD
DTSTART:19700101T060000
TZOFFSETTO:-0500
TZOFFSETFROM:-0500
END:STANDARD
END:VTIMEZONE
BEGIN:VEVENT
UID:144569
DTSTART;TZID=America/Detroit:20251015T153000
DTEND;TZID=America/Detroit:20251015T173000
STATUS:CONFIRMED
SUMMARY:October Signature Happy Hour: Private Equity Roll-Up Strategy 
 -- Building Value Through Strategic Acquisitions
DESCRIPTION:
LOCATION:Embassy Suites\nEmbassy Suites\n710 Monroe Avenue\, NW\nGrand
  Rapids\\, MI 49503
URL:https://www.acg.org/wmich/events/october-signature-happy-hour-priv
 ate-equity-roll-strategy-building-value-through
DTSTAMP:20260421T003643Z
END:VEVENT
END:VCALENDAR
