BEGIN:VCALENDAR
VERSION:2.0
PRODID:-//ACG//Events//EN
CALSCALE:GREGORIAN
METHOD:PUBLISH
BEGIN:VTIMEZONE
TZID:America/Detroit
BEGIN:STANDARD
DTSTART:19700101T060000
TZOFFSETTO:-0500
TZOFFSETFROM:-0500
END:STANDARD
END:VTIMEZONE
BEGIN:VEVENT
UID:144570
DTSTART;TZID=America/Detroit:20251112T080000
DTEND;TZID=America/Detroit:20251112T093000
STATUS:CONFIRMED
SUMMARY:November Signature Breakfast: Private-Equity Roll-Up Stategy -
 - Mastering Integration for Maximum Value Creation
DESCRIPTION:
LOCATION:Embassy Suites\nEmbassy Suites\n710 Monroe Avenue\, NW\nGrand
  Rapids\\, MI 49503
URL:https://www.acg.org/wmich/events/november-signature-breakfast-priv
 ate-equity-roll-stategy-mastering-integration-maximum
DTSTAMP:20260420T190029Z
END:VEVENT
END:VCALENDAR
