BEGIN:VCALENDAR
VERSION:2.0
PRODID:-//ACG//Events//EN
CALSCALE:GREGORIAN
METHOD:PUBLISH
BEGIN:VTIMEZONE
TZID:America/Detroit
BEGIN:STANDARD
DTSTART:19700101T060000
TZOFFSETTO:-0500
TZOFFSETFROM:-0500
END:STANDARD
END:VTIMEZONE
BEGIN:VEVENT
UID:ACG-DETROIT-NEXTGEN-MOMENTUM-MENTORING
DTSTART;TZID=America/Detroit:20250528T163009
DTEND;TZID=America/Detroit:20250528T193035
STATUS:CONFIRMED
SUMMARY:ACG Detroit | NextGen Momentum Mentoring
DESCRIPTION:
LOCATION:Red Run Golf Club\n2036 Rochester Road\nRoyal Oak\\, MI 48073
URL:https://www.acg.org/detroit/events/acg-detroit-nextgen-momentum-me
 ntoring
DTSTAMP:20260423T163247Z
END:VEVENT
END:VCALENDAR
