BEGIN:VCALENDAR
VERSION:2.0
PRODID:-//ACG//Events//EN
CALSCALE:GREGORIAN
METHOD:PUBLISH
BEGIN:VTIMEZONE
TZID:Europe/Madrid
BEGIN:STANDARD
DTSTART:19700101T060000
TZOFFSETTO:+0100
TZOFFSETFROM:+0100
END:STANDARD
END:VTIMEZONE
BEGIN:VEVENT
UID:144577
DTSTART;TZID=Europe/Madrid:20250507T083000
DTEND;TZID=Europe/Madrid:20250507T100000
STATUS:CONFIRMED
SUMMARY:ACG TALKS
DESCRIPTION:
LOCATION:abac capital\nABAC CAPITAL\nCarrer de Lleó XIII\, 24\, Sarri
 à-Sant Gervasi\nBarcelona\\, Barcelona 08022
URL:https://www.acg.org/spain/events/acg-talks
DTSTAMP:20260422T014853Z
END:VEVENT
END:VCALENDAR
