BEGIN:VCALENDAR
VERSION:2.0
PRODID:-//ACG//Events//EN
CALSCALE:GREGORIAN
METHOD:PUBLISH
BEGIN:VTIMEZONE
TZID:America/Chicago
BEGIN:STANDARD
DTSTART:19701025T070000
TZOFFSETTO:-0600
TZOFFSETFROM:-0500
RRULE:FREQ=YEARLY;BYMONTH=11;BYDAY=1SU
END:STANDARD
BEGIN:DAYLIGHT
DTSTART:19700426T080000
TZOFFSETTO:-0500
TZOFFSETFROM:-0600
RRULE:FREQ=YEARLY;BYMONTH=3;BYDAY=2SU
END:DAYLIGHT
END:VTIMEZONE
BEGIN:VEVENT
UID:2025-ACG-KC-CORPORATE-PEER-GROUP-MAY
DTSTART;TZID=America/Chicago:20250530T073048
DTEND;TZID=America/Chicago:20250530T090048
STATUS:CONFIRMED
SUMMARY:2025 ACG KC Corporate Peer Group - May
DESCRIPTION:
LOCATION:Carriage Club\n5301 State Line Road\nKansas City\\, MO 64112
URL:https://www.acg.org/kc/events/2025-acg-kc-corporate-peer-group-may
DTSTAMP:20260421T201716Z
END:VEVENT
END:VCALENDAR
