BEGIN:VCALENDAR
VERSION:2.0
PRODID:-//ACG//Events//EN
CALSCALE:GREGORIAN
METHOD:PUBLISH
BEGIN:VTIMEZONE
TZID:America/Detroit
BEGIN:STANDARD
DTSTART:19700101T060000
TZOFFSETTO:-0500
TZOFFSETFROM:-0500
END:STANDARD
END:VTIMEZONE
BEGIN:VEVENT
UID:144609
DTSTART;TZID=America/Detroit:20250423T173000
DTEND;TZID=America/Detroit:20250423T200000
STATUS:CONFIRMED
SUMMARY:Outstanding Growth Awards
DESCRIPTION:
LOCATION:Grand Rapids Art Museum\nGrand Rapids Art Museum\n101 Monroe 
 Center Avenue\, NW\nGrand Rapids\\, MI 49503
URL:https://www.acg.org/wmich/events/outstanding-growth-awards-2
DTSTAMP:20260422T040418Z
END:VEVENT
END:VCALENDAR
