BEGIN:VCALENDAR
VERSION:2.0
PRODID:-//ACG//Events//EN
CALSCALE:GREGORIAN
METHOD:PUBLISH
BEGIN:VTIMEZONE
TZID:America/Los_Angeles
BEGIN:STANDARD
DTSTART:19701025T090000
TZOFFSETTO:-0800
TZOFFSETFROM:-0700
RRULE:FREQ=YEARLY;BYMONTH=11;BYDAY=1SU
END:STANDARD
BEGIN:DAYLIGHT
DTSTART:19700426T100000
TZOFFSETTO:-0700
TZOFFSETFROM:-0800
RRULE:FREQ=YEARLY;BYMONTH=3;BYDAY=2SU
END:DAYLIGHT
END:VTIMEZONE
BEGIN:VEVENT
UID:ACG-SAN-DIEGO-NEW-MEMBER-LUNCH-IN-APRIL-30-2025
DTSTART;TZID=America/Los_Angeles:20250430T113021
DTEND;TZID=America/Los_Angeles:20250430T130021
STATUS:CONFIRMED
SUMMARY:ACG San Diego New Member Luncheon April 30\, 2025
DESCRIPTION:
LOCATION:Insperity\n11455 El Camino Real\nSan Diego\\, CA 92130
URL:https://www.acg.org/sandiego/events/acg-san-diego-new-member-lunch
 eon-april-30-2025
DTSTAMP:20260422T020224Z
END:VEVENT
END:VCALENDAR
