BEGIN:VCALENDAR
VERSION:2.0
PRODID:-//ACG//Events//EN
CALSCALE:GREGORIAN
METHOD:PUBLISH
BEGIN:VTIMEZONE
TZID:America/Chicago
BEGIN:STANDARD
DTSTART:19701025T070000
TZOFFSETTO:-0600
TZOFFSETFROM:-0500
RRULE:FREQ=YEARLY;BYMONTH=11;BYDAY=1SU
END:STANDARD
BEGIN:DAYLIGHT
DTSTART:19700426T080000
TZOFFSETTO:-0500
TZOFFSETFROM:-0600
RRULE:FREQ=YEARLY;BYMONTH=3;BYDAY=2SU
END:DAYLIGHT
END:VTIMEZONE
BEGIN:VEVENT
UID:2025-STL-WOMEN-S-PEER-GROUP-JUNE-EVENT
DTSTART;TZID=America/Chicago:20250625T160047
DTEND;TZID=America/Chicago:20250625T180006
STATUS:CONFIRMED
SUMMARY:2025 STL | Women's Peer Group June Event
DESCRIPTION:
LOCATION:The Milton Building\n2025 South Brentwood Boulevard\nBrentwoo
 d\\, MO 63144
URL:https://www.acg.org/stlouis/events/2025-stl-womens-peer-group-june
 -event
DTSTAMP:20260423T123647Z
END:VEVENT
END:VCALENDAR
