BEGIN:VCALENDAR
VERSION:2.0
PRODID:-//ACG//Events//EN
CALSCALE:GREGORIAN
METHOD:PUBLISH
BEGIN:VTIMEZONE
TZID:America/New_York
BEGIN:STANDARD
DTSTART:19701025T060000
TZOFFSETTO:-0500
TZOFFSETFROM:-0400
RRULE:FREQ=YEARLY;BYMONTH=11;BYDAY=1SU
END:STANDARD
BEGIN:DAYLIGHT
DTSTART:19700426T070000
TZOFFSETTO:-0400
TZOFFSETFROM:-0500
RRULE:FREQ=YEARLY;BYMONTH=3;BYDAY=2SU
END:DAYLIGHT
END:VTIMEZONE
BEGIN:VEVENT
UID:SFL_250910
DTSTART;TZID=America/New_York:20250910T163018
DTEND;TZID=America/New_York:20250910T193035
STATUS:CONFIRMED
SUMMARY:ACG South Florida: Pickleball Power Happy Hour: Network\, Play
 \, Repeat
DESCRIPTION:
LOCATION:Diadem Pickleball Complex\n1000 Coconut Creek Boulevard\nCoco
 nut Creek\\, FL 33066
URL:https://www.acg.org/southflorida/events/acg-south-florida-pickleba
 ll-power-happy-hour-network-play-repeat
DTSTAMP:20260421T070503Z
END:VEVENT
END:VCALENDAR
