BEGIN:VCALENDAR
VERSION:2.0
PRODID:-//ACG//Events//EN
CALSCALE:GREGORIAN
METHOD:PUBLISH
BEGIN:VTIMEZONE
TZID:America/New_York
BEGIN:STANDARD
DTSTART:19701025T060000
TZOFFSETTO:-0500
TZOFFSETFROM:-0400
RRULE:FREQ=YEARLY;BYMONTH=11;BYDAY=1SU
END:STANDARD
BEGIN:DAYLIGHT
DTSTART:19700426T070000
TZOFFSETTO:-0400
TZOFFSETFROM:-0500
RRULE:FREQ=YEARLY;BYMONTH=3;BYDAY=2SU
END:DAYLIGHT
END:VTIMEZONE
BEGIN:VEVENT
UID:PALM-BEACH-NETWORK-COFFEE-CONNECTIONS-JULY-2025
DTSTART;TZID=America/New_York:20250701T080034
DTEND;TZID=America/New_York:20250701T090046
STATUS:CONFIRMED
SUMMARY:Palm Beach Network Coffee Connections: July 2025
DESCRIPTION:
LOCATION:Narbona\n5250 Town Center Circle\nBoca Raton\\, FL 33486
URL:https://www.acg.org/southflorida/events/palm-beach-network-coffee-
 connections-july-2025
DTSTAMP:20260421T143749Z
END:VEVENT
END:VCALENDAR
