BEGIN:VCALENDAR
VERSION:2.0
PRODID:-//ACG//Events//EN
CALSCALE:GREGORIAN
METHOD:PUBLISH
BEGIN:VTIMEZONE
TZID:America/Detroit
BEGIN:STANDARD
DTSTART:19700101T060000
TZOFFSETTO:-0500
TZOFFSETFROM:-0500
END:STANDARD
END:VTIMEZONE
BEGIN:VEVENT
UID:144666
DTSTART;TZID=America/Detroit:20250813T160000
DTEND;TZID=America/Detroit:20250813T180000
STATUS:CONFIRMED
SUMMARY:NextGen Presents: Summer Social in the Park
DESCRIPTION:
LOCATION:Riverside Park\nRiverside Park\n2001 Monroe Avenue\, NW\nGran
 d Rapids\\, MI 49505
URL:https://www.acg.org/wmich/events/nextgen-presents-summer-social-park
DTSTAMP:20260423T083906Z
END:VEVENT
END:VCALENDAR
