BEGIN:VCALENDAR
VERSION:2.0
PRODID:-//ACG//Events//EN
CALSCALE:GREGORIAN
METHOD:PUBLISH
BEGIN:VTIMEZONE
TZID:America/Detroit
BEGIN:STANDARD
DTSTART:19700101T060000
TZOFFSETTO:-0500
TZOFFSETFROM:-0500
END:STANDARD
END:VTIMEZONE
BEGIN:VEVENT
UID:144667
DTSTART;TZID=America/Detroit:20250925T153000
DTEND;TZID=America/Detroit:20250925T180000
STATUS:CONFIRMED
SUMMARY:Fall Networking Social at Kusterer Brauhaus
DESCRIPTION:
LOCATION:Kusterer Brauhaus\nKusterer Brauhaus\n642 Bridge Street\, NW\
 nGrand Rapids\\, MI 49504
URL:https://www.acg.org/wmich/events/fall-networking-social-kusterer-b
 rauhaus
DTSTAMP:20260421T050932Z
END:VEVENT
END:VCALENDAR
